BEGIN:VCALENDAR
VERSION:2.0
PRODID:-//wp-events-plugin.com//7.2.3.1//EN
BEGIN:VEVENT
UID:15@associazioneaitim.it
DTSTART:20250515T190000Z
DTEND:20250515T200000Z
DTSTAMP:20250515T100441Z
URL:https://www.associazioneaitim.it/events/%f0%9f%93%a1-telemedicina-derm
 atologia-e-riabilitazione-i-nuovi-scenari-della-salute-digitale/
SUMMARY:📡 TELEMEDICINA: Dermatologia e Riabilitazione – I nuovi scenar
 i della salute digitale
DESCRIPTION:L'Associazione Italiana di Telemedicina e Informatica Medica (A
 ITIM) è lieta di segnalare la trasmissione "TELEMEDICINA: Dermatologia e 
 Riabilitazione – I nuovi scenari della salute digitale"\, un approfondim
 ento sulle applicazioni della telemedicina in ambito dermatologico e riabi
 litativo.\nIl programma esplora come le tecnologie digitali stiano trasfor
 mando la pratica clinica\, migliorando l'accessibilità e l'efficienza del
 le cure. Attraverso interviste a esperti e casi studio\, vengono illustrat
 e le potenzialità e le sfide dell'adozione della telemedicina in questi s
 ettori.\n📺 Guarda la trasmissione completa su YouTube:👉 TELEMEDICINA
 : Dermatologia e Riabilitazione – I nuovi scenari della salute digitale\
 nQuesta iniziativa si inserisce negli obiettivi di AITIM di promuovere lo 
 studio\, la ricerca e l'applicazione delle tecnologie dell'informazione e 
 delle telecomunicazioni nel settore sanitario.
ATTACH;FMTTYPE=image/jpeg:https://www.associazioneaitim.it/wp-content/uplo
 ads/2025/05/WhatsApp-Image-2025-05-15-at-10.40.38.jpeg
END:VEVENT
END:VCALENDAR