BEGIN:VCALENDAR
VERSION:2.0
PRODID:-//wp-events-plugin.com//7.2.3.1//EN
BEGIN:VEVENT
UID:2@associazioneaitim.it
DTSTART;VALUE=DATE:20241129
DTEND;VALUE=DATE:20241201
DTSTAMP:20250110T083146Z
URL:https://www.associazioneaitim.it/events/congresso2024/
SUMMARY:XXIV Congresso Nazionale di AITIM Lamezia Terme 29 e 30 Novembre 20
 24
DESCRIPTION:Il prossimo 29-30 novembre si svolgerà a Lamezia Terme\, press
 o il Best Western Hotel Class (località Rotoli)\,  il XXIV Congresso Naz
 ionale di AITIM (Associazione Italiana Telemedicina ed Informatica Medica)
 . Tanti i temi di Telemedicina che saranno approfonditi in questa nuova er
 a informatica che vede tutti coinvolti nel processo di digitalizzazione. N
 umerosi saranno gli esperti che parleranno del nuovo volto della sanità d
 igitale. I recenti investimenti del PNRR hanno mostrato come la rivoluzion
 e sanitaria non sia solo possibile ma doverosa.\n\nSave the date 29-30 Nov
 embre 2024\n\nNon mancare\, e mantieniti aggiornato con il nostro sito.\n\
 n&nbsp\;\n\nScarica la locandina: LocandinaXXIVCongressoAITIM\n\nScarica i
 l programma completo: ProgrammaXXIVCongressoAITIM\n\n&nbsp\;\n[envira-gall
 ery id="555"]\n&nbsp\;\n\n[fbdl setting='{"request":{"pagination":{"curren
 t":1\,"limit":10}\,"search":""\,"orderBy":"post_modified"\,"orderType":"AS
 C"\,"selectedFolder":"1"}\,"title":"Documenti Lamezia Terme 2024"\,"column
 ":2\,"layout":"list"}']\n\n&nbsp\;\n\nMain sponsor:\n\n\n\n\n\n\n\n\n\n\n\
 n\n\n\n\n\nPatrocinato da:\n\n\nPer ricevere maggiori informazioni compila
  il form sottostante oppure scrivici a: segreteria@associazioneaitim.it\n\
 n[contact-form-7 id="df3b71c" title="Modulo di Contatto Eventi"]
ATTACH;FMTTYPE=image/jpeg:https://www.associazioneaitim.it/wp-content/uplo
 ads/2024/05/lamezia-terme.jpg
LOCATION:Best Western Hotel Class\,  Località Rotoli\, Lamezia Terme\, cz\
 , 88046\, Calabria\, Italia
X-APPLE-STRUCTURED-LOCATION;VALUE=URI;X-ADDRESS= Località Rotoli\, Lamezia
  Terme\, cz\, 88046\, Calabria\, Italia;X-APPLE-RADIUS=100;X-TITLE=Best We
 stern Hotel Class:geo:0,0
END:VEVENT
END:VCALENDAR