BEGIN:VCALENDAR
VERSION:2.0
PRODID:-//wp-events-plugin.com//7.2.3.1//EN
BEGIN:VEVENT
UID:6@associazioneaitim.it
DTSTART:20241017T190000Z
DTEND:20241017T210000Z
DTSTAMP:20241017T081437Z
URL:https://www.associazioneaitim.it/events/giovedi-17-10-sanita-telemedic
 ina-e-nutrizione-con-teleabruzzi-la-tv-delladriatico/
SUMMARY:Giovedì 17/10 sanità  telemedicina e nutrizione con TeleAbruzzi -
  La Tv dell'Adriatico
DESCRIPTION:Siamo lieti di annunciare un evento imperdibile per giovedì 17
  ottobre\, organizzato in collaborazione con il nostro partner TeleAbruzzi
 .\n\nDurante l'evento avremo l'onore di ospitare illustri relatori:\n\n 	D
 ott. Sergio Bella\, responsabile dell'UOC di Broncopneumologia presso l'Os
 pedale Bambin Gesù di Roma e presidente di AITIM.\n 	Dott. Giannantonio P
 ellicanò\, neuroradiologo presso l'Istituto Prosperius di Firenze e membr
 o del direttivo AITIM.\n 	Francesco Costa\, presidente dell'associazione A
 limentaMenti.\n\nL'evento sarà un'occasione unica per approfondire temati
 che di grande attualità in ambito medico e scientifico\, con particolare 
 attenzione alla collaborazione tra le diverse istituzioni e associazioni c
 oinvolte.\n\nSeguilo sui canali del nostro partner:\n𝐘𝐨𝐮𝐓𝐮
 𝐛𝐞: https://www.youtube.com/@TeleAbruzzi-LaTvdellAdriatico\n𝐅𝐚
 𝐜𝐞𝐛𝐨𝐨𝐤: https://www.facebook.com/teleabruzzi\n&nbsp\;
ATTACH;FMTTYPE=image/jpeg:https://www.associazioneaitim.it/wp-content/uplo
 ads/2024/10/teleabruzzi.png
END:VEVENT
END:VCALENDAR